BEGIN:VCALENDAR
VERSION:2.0
PRODID:-//eventon.com NONSGML v1.0//EN
CALSCALE:GREGORIAN
METHOD:PUBLISH
BEGIN:VEVENT
UID:69e6830346e4c
DTSTAMP:20260420T194819Z
DTSTART:20240515T150000Z
DTEND:20240515T200000Z
LOCATION:Heritage Park 1447 Courthouse Alley Gardnerville\,  NV 89410
SUMMARY:Just a Drop In Farmers Market
DESCRIPTION:Wednesday Farmers Markets in Heritage Park are back\,  organize
 d by Just a Drop! Local growers and sellers are returning with their one-of
 -a-kind produce and goods available for purchase. Stop by\,  or &#8220;drop
  in\, &#8221; on Wednesdays in May to September\,  any time between 8:00am 
 and 1:00pm\,  and check it out! For[..]\nhttps://visitcarsonvalley.org/even
 ts/just-a-drop-in-farmers-market/
URL:https://visitcarsonvalley.org/events/just-a-drop-in-farmers-market/
END:VEVENT
END:VCALENDAR