BEGIN:VCALENDAR
VERSION:2.0
PRODID:-//eventon.com NONSGML v1.0//EN
CALSCALE:GREGORIAN
METHOD:PUBLISH
BEGIN:VEVENT
UID:69ea3dda3029f
DTSTAMP:20260423T154218Z
DTSTART:20240521T230000Z
DTEND:20240522T030000Z
LOCATION:Esmeralda Ave. Minden\,  NV 89423
SUMMARY:Esmeralda Farmers Market - Tuesday Nights
DESCRIPTION:Come check out the local fare at the Esmeralda Farmer&#8217;s M
 arket in downtown Minden every Tuesday evening through September 24th. Feat
 uring live music\,  local craft vendors\,  and homegrown fresh and deliciou
 s food! For other events happening in Minden\,  visit the Town of Minden&#8
 217;s website.\nhttps://visitcarsonvalley.org/events/esmeralda-farmers-mark
 et-tuesday-nights-2/
URL:https://visitcarsonvalley.org/events/esmeralda-farmers-market-tuesday-nights-2/
END:VEVENT
END:VCALENDAR