BEGIN:VCALENDAR
VERSION:2.0
PRODID:-//eventon.com NONSGML v1.0//EN
CALSCALE:GREGORIAN
METHOD:PUBLISH
BEGIN:VEVENT
UID:69e568b269c9e
DTSTAMP:20260419T234346Z
DTSTART:20241113T190000Z
DTEND:20241113T235900Z
LOCATION:Tahoe Blue Event Center 75 US Hwy 50\,  Stateline\,  NV 89449
SUMMARY:Tahoe Knight Monsters 2024-2025 Hockey Season at Tahoe Blue Events Center: November 13
DESCRIPTION:It&#8217;s finally hockey season at the Tahoe Blue Event Center
 ! Celebrate its inaugural year by cheering on our very own Tahoe Knight Mon
 sters at one or all of the 33 home games planned for this season. On Novemb
 er 13th\,  2024\,  the Knight Monsters will be facing the Tulsa Oilers. The
 [..]\nhttps://visitcarsonvalley.org/events/tahoe-knight-monsters-2024-2025-
 hockey-season-at-tahoe-blue-events-center-november-13/
URL:https://visitcarsonvalley.org/events/tahoe-knight-monsters-2024-2025-hockey-season-at-tahoe-blue-events-center-november-13/
END:VEVENT
END:VCALENDAR