BEGIN:VCALENDAR
VERSION:2.0
PRODID:-//eventon.com NONSGML v1.0//EN
CALSCALE:GREGORIAN
METHOD:PUBLISH
BEGIN:VEVENT
UID:69e9322b2dcb2
DTSTAMP:20260422T204011Z
DTSTART:20241214T120000Z
DTEND:20241214T170000Z
LOCATION:Douglas County Community &amp; Senior Center 1329 Waterloo Lane Gardnerville\,  NV 89410
SUMMARY:Douglas County Community and Senior Center's 10 Year Anniversary Open House
DESCRIPTION:The Douglas County Community and Senior Center will be celebrat
 ing the 10th year anniversary of being open\,  the same year that the Carso
 n Valley Arts Council celebrates 20 years of service! Join the fun on Decem
 ber 14th from 12:00pm to 5:00pm for a special community center open house e
 vent\,  featuring[..]\nhttps://visitcarsonvalley.org/events/community-cente
 rs-anniversary-open-house/
URL:https://visitcarsonvalley.org/events/community-centers-anniversary-open-house/
END:VEVENT
END:VCALENDAR