BEGIN:VCALENDAR
VERSION:2.0
PRODID:-//eventon.com NONSGML v1.0//EN
CALSCALE:GREGORIAN
METHOD:PUBLISH
BEGIN:VEVENT
UID:69ea3f6f7d794
DTSTAMP:20260423T154903Z
DTSTART:20250322T190000Z
DTEND:20250322T220000Z
LOCATION:Carson Valley Museum &amp; Cultural Center 1477 U.S. Hwy. 395 N Gardnerville\,  NV 89410
SUMMARY:Women in History
DESCRIPTION:Join the Douglas County Historical Society on Saturday\,  March
  22 as they honor the remarkable women of Douglas County who have made a la
 sting impact on our community. This special presentation highlights their c
 ontributions to enhancing the quality of life in our area and recognizes th
 eir role in shaping our[..]\nhttps://visitcarsonvalley.org/events/women-in-
 history/
URL:https://visitcarsonvalley.org/events/women-in-history/
END:VEVENT
END:VCALENDAR