BEGIN:VCALENDAR
VERSION:2.0
PRODID:-//eventon.com NONSGML v1.0//EN
CALSCALE:GREGORIAN
METHOD:PUBLISH
BEGIN:VEVENT
UID:69ece9ece3657
DTSTAMP:20260425T162100Z
DTSTART:20251129T180000Z
DTEND:20251130T230000Z
LOCATION:Douglas County Fairgrounds 920 Pinenut Rd. Gardnerville\,  NV 89410
SUMMARY:Country Christmas Market 2025
DESCRIPTION:Don&#8217;t miss this western-themed Christmas shopping event a
 t the Douglas County Fairgrounds pavilion! The market will feature handmade
  gifts\,  activities for kids\,  and pictures with Santa Claus! This event 
 is free to attend\,  so take this chance to find some truly unique holiday 
 gifts! Saturday\,  November 29\,  10am-5pm Sunday\,  November[..]\nhttps://
 visitcarsonvalley.org/events/country-christmas-market-2025/
URL:https://visitcarsonvalley.org/events/country-christmas-market-2025/
END:VEVENT
END:VCALENDAR