BEGIN:VCALENDAR
VERSION:2.0
PRODID:-//eventon.com NONSGML v1.0//EN
CALSCALE:GREGORIAN
METHOD:PUBLISH
BEGIN:VEVENT
UID:69eb4974cbfb3
DTSTAMP:20260424T104404Z
DTSTART:20251130T150000Z
DTEND:20251130T173000Z
LOCATION:Tahoe Blue Event Center 75 US Hwy 50\,  Stateline\,  NV 89449
SUMMARY:Tahoe Knight Monsters 2025-2026 Hockey Season: Game Day
DESCRIPTION:Hockey season returns to the Tahoe Blue Event Center! Celebrate
  by cheering on our very own Tahoe Knight Monsters at one or all of the 36 
 home games planned for this season. On November 30\,  2025\,  the Knight Mo
 nsters will be facing the Tulsa Oilers. The puck drops at 3:00[..]\nhttps:/
 /visitcarsonvalley.org/events/tahoe-knight-monsters-2025-2026-hockey-season
 -game-day-2/
URL:https://visitcarsonvalley.org/events/tahoe-knight-monsters-2025-2026-hockey-season-game-day-2/
END:VEVENT
END:VCALENDAR