BEGIN:VCALENDAR
VERSION:2.0
PRODID:-//eventon.com NONSGML v1.0//EN
CALSCALE:GREGORIAN
METHOD:PUBLISH
BEGIN:VEVENT
UID:69eb61311d668
DTSTAMP:20260424T122521Z
DTSTART:20260503T083000Z
DTEND:20260503T130000Z
LOCATION:Douglas County Fairgrounds 920 Pinenut Rd. Gardnerville\,  NV 89410
SUMMARY:Dare to Be A Cowboy's 2026 Mutton Bustin' Series
DESCRIPTION:The West Coast&#8217;s Premier Mutton Bustin&#8217; Series is c
 oming to Gardnerville\,  Nevada in 2026! Four jackpots. Four hundred contes
 tants. One incredible season of riding sheep! Age divisions are 3-4 and 5-7
 \,  with 50 riders per age group. Open to kids of all experience levels! Ev
 ents will take place at the[..]\nhttps://visitcarsonvalley.org/events/dare-
 to-be-a-cowboys-2026-mutton-bustin-series/
URL:https://visitcarsonvalley.org/events/dare-to-be-a-cowboys-2026-mutton-bustin-series/
END:VEVENT
END:VCALENDAR