BEGIN:VCALENDAR
VERSION:2.0
PRODID:-//eventon.com NONSGML v1.0//EN
CALSCALE:GREGORIAN
METHOD:PUBLISH
BEGIN:VEVENT
UID:69e5f8ed6d6db
DTSTAMP:20260420T095909Z
DTSTART:20260426T130000Z
DTEND:20260426T141500Z
LOCATION:Minden Mill Distilling 1601 Water St. Minden\,  NV 89423
SUMMARY:History Presentation - Difficult Times...Extraordinary Lives
DESCRIPTION:Using extensive research and seldom scene images\,  historians 
 David &amp; Gayle Woodruff delve into the ‘human heart’ of Manzanar Int
 ernment Camp\,  revealing a few little‑known stories of Japanese American
 s whose lives were upended and reshaped behind its barbed‑wire horizon. T
 hrough stark moments of loss\,  flashes of defiance\,  and the fragile[..]\
 nhttps://visitcarsonvalley.org/events/history-presentation-difficult-times-
 extraordinary-lives/var/ri-1.l-L1
URL:https://visitcarsonvalley.org/events/history-presentation-difficult-times-extraordinary-lives/var/ri-1.l-L1
END:VEVENT
END:VCALENDAR