BEGIN:VCALENDAR
VERSION:2.0
PRODID:-//eventon.com NONSGML v1.0//EN
CALSCALE:GREGORIAN
METHOD:PUBLISH
BEGIN:VEVENT
UID:69e5e79eb9549
DTSTAMP:20260420T084518Z
DTSTART:20260529T164500Z
DTEND:20260529T200000Z
LOCATION:The Genoa Gallery 2292 Main St. #7\,  Genoa\,  NV 89411
SUMMARY:Genoa Wine Walk 2026: Last Fridays from May to August
DESCRIPTION:The Annual Genoa Wine Walk returns for its 5th year starting in
  May 2026! Purchase wine glasses and wristbands for participation at The Ge
 noa Gallery (2292 Main Street #7\,  Genoa\,  NV). Check-in starts the day o
 f events at 4:45pm  in front of the gallery. The Genoa Wine Walk dates are
 [..]\nhttps://visitcarsonvalley.org/events/genoa-wine-walk-2026-last-friday
 s-from-may-to-august/
URL:https://visitcarsonvalley.org/events/genoa-wine-walk-2026-last-fridays-from-may-to-august/
END:VEVENT
END:VCALENDAR