BEGIN:VCALENDAR
VERSION:2.0
PRODID:-//eventon.com NONSGML v1.0//EN
CALSCALE:GREGORIAN
METHOD:PUBLISH
BEGIN:VEVENT
UID:69e8b80ce54c2
DTSTAMP:20260422T115908Z
DTSTART:20260501T173000Z
DTEND:20260501T190000Z
LOCATION:HelloHandmade 1328 US HWY 395 N\,  Ste 105
SUMMARY:Stoneware Watering Can Glazing Class
DESCRIPTION:You will receive the Stoneware Watering Can unglazed (pictured 
 below). Learn about Stoneware glazes before the painting begins and choose 
 from over 100 different stoneware glazes. Stoneware glazes are normally res
 erved for studio members only. This class is intended for ages 16 and up. T
 his class will take place May[..]\nhttps://visitcarsonvalley.org/events/sto
 neware-watering-can-glazing-class/
URL:https://visitcarsonvalley.org/events/stoneware-watering-can-glazing-class/
END:VEVENT
END:VCALENDAR