BEGIN:VCALENDAR
VERSION:2.0
PRODID:-//eventon.com NONSGML v1.0//EN
CALSCALE:GREGORIAN
METHOD:PUBLISH
BEGIN:VEVENT
UID:69e612c4caa13
DTSTAMP:20260420T114924Z
DTSTART:20260613T150000Z
DTEND:20260613T170000Z
LOCATION:Heritage Park 1447 Courthouse Alley Gardnerville\,  NV 89410
SUMMARY:CV Days Classic 2026: 5k Fun Run & Walk
DESCRIPTION:Join Main Street Gardnerville on Saturday\,  June 13 for the fi
 rst run of the 2026 “We Run This Town” fun run/walk series\,  and kick 
 off your Carson Valley Days festivities with a fun run/walk through Gardner
 ville and up the parade route before the parade starts! Register and comple
 te all three[..]\nhttps://visitcarsonvalley.org/events/cv-days-classic-2026
 -5k-fun-run-walk/
URL:https://visitcarsonvalley.org/events/cv-days-classic-2026-5k-fun-run-walk/
END:VEVENT
END:VCALENDAR