BEGIN:VCALENDAR
VERSION:2.0
PRODID:-//eventon.com NONSGML v1.0//EN
CALSCALE:GREGORIAN
METHOD:PUBLISH
BEGIN:VEVENT
UID:69e892317010f
DTSTAMP:20260422T091737Z
DTSTART:20260612T073000Z
DTEND:20260612T110000Z
LOCATION:Genoa Lakes Golf Club 1 Genoa Lakes Dr. Genoa\,  NV 89411
SUMMARY:Boys and Girls Clubs of Western Nevada 2026 Golf Classic
DESCRIPTION:The Boys &amp; Girls Clubs of Western Nevada host an annual gol
 f tournament each year to benefit the infrastructure and operations for the
  Wray Family Clubhouse. Come par-tee fore the kids! Over the past 16 years\
 ,  their Annual Golf Classic has become a prominent event in the Carson Val
 ley community.[..]\nhttps://visitcarsonvalley.org/events/boys-and-girls-clu
 bs-of-western-nevada-2026-golf-classic/
URL:https://visitcarsonvalley.org/events/boys-and-girls-clubs-of-western-nevada-2026-golf-classic/
END:VEVENT
END:VCALENDAR