BEGIN:VCALENDAR
VERSION:2.0
PRODID:-//eventon.com NONSGML v1.0//EN
CALSCALE:GREGORIAN
METHOD:PUBLISH
BEGIN:VEVENT
UID:69ecd18d9de5b
DTSTAMP:20260425T143701Z
DTSTART:20261107T190000Z
DTEND:20261108T010000Z
LOCATION:Heritage Park 1447 Courthouse Alley Gardnerville\,  NV 89410
SUMMARY:Día de los Muertos Festival 2026
DESCRIPTION:Bring friends and family of all ages to Heritage Park for the 5
 th Annual Día de los Muertos Festival on Saturday\,  November 7\,  2026 fr
 om 11:00am-5:00pm\,  presented by Main Street Gardnerville\,  Douglas Count
 y Community Services\,  and the Carson Valley Arts Council. Join the celebr
 ation\,  featuring Mariachi music\,  Folkloric\,  Aztec Dancers\, [..]\nhtt
 ps://visitcarsonvalley.org/events/dia-de-los-muertos-festival-2026/
URL:https://visitcarsonvalley.org/events/dia-de-los-muertos-festival-2026/
END:VEVENT
END:VCALENDAR