BEGIN:VCALENDAR
VERSION:2.0
PRODID:-//eventon.com NONSGML v1.0//EN
CALSCALE:GREGORIAN
METHOD:PUBLISH
BEGIN:VEVENT
UID:69e612a54f8e8
DTSTAMP:20260420T114853Z
DTSTART:20260524T090000Z
DTEND:20260524T130000Z
LOCATION:Genoa Town Park 2285 Genoa St Genoa\,  NV 89411
SUMMARY:The Genoa Country Marketplace
DESCRIPTION:A brand new weekly farmer&#8217;s market is coming to Genoa\,  
 organized by Sierra Chef. Every Sunday starting May 17 to September 20\,  2
 026\,  Genoa Town Park will host a variety of sellers from 9:00am to 1:00pm
 . Whether you&#8217;re looking for farm fresh produce\,  baked goods\,  or 
 handmade crafts for the[..]\nhttps://visitcarsonvalley.org/events/the-genoa
 -country-marketplace/var/ri-1.l-L1
URL:https://visitcarsonvalley.org/events/the-genoa-country-marketplace/var/ri-1.l-L1
END:VEVENT
END:VCALENDAR