BEGIN:VCALENDAR
VERSION:2.0
PRODID:-//eventon.com NONSGML v1.0//EN
CALSCALE:GREGORIAN
METHOD:PUBLISH
BEGIN:VEVENT
UID:69eb351c4ac5f
DTSTAMP:20260424T091716Z
DTSTART:20260502T080000Z
DTEND:20260502T120000Z
LOCATION:The Valley Merc 1420 Hwy 395 N\,  Gardnerville\,  NV 89410
SUMMARY:Market Day at The Valley Merc 2026
DESCRIPTION:Coffee in hand\,  fresh finds\,  and slow Saturday market morni
 ngs at The Merc begin in May! This once-a-month indoor/outdoor Saturday mor
 ning market series will kick off starting May 2\,  2026. Expect all the goo
 d stuff: Local beef\,  poultry &amp; eggs Fresh-baked goods Seasonal produc
 e Handcrafted goods &amp; crafts Breakfast &amp;[..]\nhttps://visitcarsonva
 lley.org/events/market-day-at-the-valley-merc-2026/
URL:https://visitcarsonvalley.org/events/market-day-at-the-valley-merc-2026/
END:VEVENT
END:VCALENDAR