BEGIN:VCALENDAR
VERSION:2.0
PRODID:-//eventon.com NONSGML v1.0//EN
CALSCALE:GREGORIAN
METHOD:PUBLISH
BEGIN:VEVENT
UID:69eb33f1b8e38
DTSTAMP:20260424T091217Z
DTSTART:20260626T170000Z
DTEND:20260626T180000Z
LOCATION:Dangberg Home Ranch Historic Park 1450 State Route Hwy 88 Minden\,  NV 89423
SUMMARY:Morning Chautauqua at Dangberg Ranch 2026
DESCRIPTION:Talented Chautauquans will appear throughout Dangberg&#8217;s 2
 026 Summer Festival performing a series of intriguing historical figures fr
 om the Carson Valley and surrounding areas. All morning Chautauqua events a
 re FREE for anyone to attend\,  so bring your loved ones and enjoy a slice 
 of immersive local history! You can view the[..]\nhttps://visitcarsonvalley
 .org/events/morning-chautauqua-at-dangberg-ranch-2026/
URL:https://visitcarsonvalley.org/events/morning-chautauqua-at-dangberg-ranch-2026/
END:VEVENT
END:VCALENDAR