BEGIN:VCALENDAR
VERSION:2.0
PRODID:-//eventon.com NONSGML v1.0//EN
CALSCALE:GREGORIAN
METHOD:PUBLISH
BEGIN:VEVENT
UID:69eb4a19d03b0
DTSTAMP:20260424T104649Z
DTSTART:20260620T170000Z
DTEND:20260620T180000Z
LOCATION:Dangberg Home Ranch Historic Park 1450 State Route Hwy 88 Minden\,  NV 89423
SUMMARY:Speakers and Authors at Dangberg Ranch 2026
DESCRIPTION:You&#8217;re invited to attend free educational talks taking pl
 ace throughout Dangberg&#8217;s 2026 Summer Festival as part of a series ex
 ploring a wide variety of local and historical topics. You can view the sch
 edule of planned morning talks below: Mornings\,  10:00am-11:00am June 20: 
 Jean-Guy Tanner Dubé will talk about the V&amp;T[..]\nhttps://visitcarsonv
 alley.org/events/speakers-and-authors-at-dangberg-ranch-2026/
URL:https://visitcarsonvalley.org/events/speakers-and-authors-at-dangberg-ranch-2026/
END:VEVENT
END:VCALENDAR