BEGIN:VCALENDAR
VERSION:2.0
PRODID:-//eventon.com NONSGML v1.0//EN
CALSCALE:GREGORIAN
METHOD:PUBLISH
BEGIN:VEVENT
UID:69eb4600a29b3
DTSTAMP:20260424T102920Z
DTSTART:20260419T130000Z
DTEND:20260419T141500Z
LOCATION:Minden Mill Distilling 1601 Water St. Minden\,  NV 89423
SUMMARY:Chautauqua Performance - John ‘Snowshoe’ Thompson and his wife Agnes
DESCRIPTION:Local authors and historians David &amp; Gayle Woodruff\,  assu
 me the characters of John “Snowshoe” Thompson and his wife Agnes in a 5
 5-minute Chautauqua performance. “Snowshoe” Thompson carried the mail a
 cross the deep Sierra Nevada snow during the winter for 20 years. With an 8
 0-pound sack of mail\,  Thompson made the[..]\nhttps://visitcarsonvalley.or
 g/events/chautauqua-performance-john-snowshoe-thompson-and-his-wife-agnes/
URL:https://visitcarsonvalley.org/events/chautauqua-performance-john-snowshoe-thompson-and-his-wife-agnes/
END:VEVENT
END:VCALENDAR