BEGIN:VCALENDAR
VERSION:2.0
PRODID:-//eventon.com NONSGML v1.0//EN
CALSCALE:GREGORIAN
METHOD:PUBLISH
BEGIN:VEVENT
UID:69eb304cf2f0d
DTSTAMP:20260424T085644Z
DTSTART:20260503T130000Z
DTEND:20260503T141500Z
LOCATION:Minden Mill Distilling 1601 Water St. Minden\,  NV 89423
SUMMARY:History Presentation - Obscure History of the Eastern Sierra Part One
DESCRIPTION:Join local historians David and Gayle Woodruff for a fast‑pac
 ed and entertaining journey through a few of Western Nevada’s most surpri
 sing stories — from the humble beginnings of Levi Strauss’s iconic jean
 s to the dramatic and deadly Slide Mountain landslide that shook the region
  and reshaped its history. This slide[..]\nhttps://visitcarsonvalley.org/ev
 ents/history-presentation-obscure-history-of-the-eastern-sierra-part-one/
URL:https://visitcarsonvalley.org/events/history-presentation-obscure-history-of-the-eastern-sierra-part-one/
END:VEVENT
END:VCALENDAR