BEGIN:VCALENDAR
VERSION:2.0
PRODID:-//eventon.com NONSGML v1.0//EN
CALSCALE:GREGORIAN
METHOD:PUBLISH
BEGIN:VEVENT
UID:69e88d0d63982
DTSTAMP:20260422T085541Z
DTSTART:20260622T170000Z
DTEND:20260822T000000Z
LOCATION:Copeland Gallery 1572 US Hwy 395
SUMMARY:Featured Artists at the Copeland Gallery: Irene Taylor and Sharon Schimke
DESCRIPTION:The Carson Valley Arts Council’s Copeland Gallery is hosting 
 an exhibit that features the work of local artists Irene Taylor and Sharon 
 Schimke. Irene works in pastels and watercolors. Sharon works with oils\,  
 acrylics\,  and mosaics. You can view the new exhibit from June 22 through 
 August 21\,  2026 at[..]\nhttps://visitcarsonvalley.org/events/featured-art
 ists-at-the-copeland-gallery-irene-taylor-and-sharon-schimke/
URL:https://visitcarsonvalley.org/events/featured-artists-at-the-copeland-gallery-irene-taylor-and-sharon-schimke/
END:VEVENT
END:VCALENDAR