BEGIN:VCALENDAR
VERSION:2.0
PRODID:-//eventon.com NONSGML v1.0//EN
CALSCALE:GREGORIAN
METHOD:PUBLISH
BEGIN:VEVENT
UID:69e8a17d5c647
DTSTAMP:20260422T102253Z
DTSTART:20260824T170000Z
DTEND:20261017T000000Z
LOCATION:Copeland Gallery 1572 US Hwy 395
SUMMARY:Featured Artist at the Copeland Gallery: Anne Mitchell
DESCRIPTION:The Carson Valley Arts Council’s Copeland Gallery is hosting 
 an exhibit that features the work of local artist Anne Mitchell. Anne&#8217
 ;s specialty is multi-media. You can view the new exhibit from August 24 th
 rough October 16\,  2026 at the Copeland Gallery in Minden\,  Monday throug
 h Saturday from 10:00am-5:00pm. Anne&#8217;s work[..]\nhttps://visitcarsonv
 alley.org/events/featured-artist-at-the-copeland-gallery-anne-mitchell/
URL:https://visitcarsonvalley.org/events/featured-artist-at-the-copeland-gallery-anne-mitchell/
END:VEVENT
END:VCALENDAR