BEGIN:VCALENDAR
VERSION:2.0
PRODID:-//eventon.com NONSGML v1.0//EN
CALSCALE:GREGORIAN
METHOD:PUBLISH
BEGIN:VEVENT
UID:69ecd1a8b29d3
DTSTAMP:20260425T143728Z
DTSTART:20261019T170000Z
DTEND:20261212T010000Z
LOCATION:Copeland Gallery 1572 US Hwy 395
SUMMARY:Featured Artist at the Copeland Gallery: Susan Musil
DESCRIPTION:The Carson Valley Arts Council’s Copeland Gallery is hosting 
 an exhibit that features the work of local artist Susan Musil. Susan&#8217;
 s specialty is beaded jewelry and display objects. You can view the new exh
 ibit from October 19 through December 11\,  2026 at the Copeland Gallery in
  Minden\,  Monday through Saturday[..]\nhttps://visitcarsonvalley.org/event
 s/featured-artist-at-the-copeland-gallery-susan-musil/
URL:https://visitcarsonvalley.org/events/featured-artist-at-the-copeland-gallery-susan-musil/
END:VEVENT
END:VCALENDAR