BEGIN:VCALENDAR
VERSION:2.0
PRODID:-//eventon.com NONSGML v1.0//EN
CALSCALE:GREGORIAN
METHOD:PUBLISH
BEGIN:VEVENT
UID:69eb330db91b5
DTSTAMP:20260424T090829Z
DTSTART:20260717T010000Z
DTEND:20260719T040000Z
LOCATION:Douglas County Fairgrounds 920 Pinenut Rd. Gardnerville\,  NV 89410
SUMMARY:MAYHEMilition 2026
DESCRIPTION:The MAYHEMilition Demolition Derby\,  presented by Simerson Eve
 nts\,  returns to the Douglas County Fairgrounds alongside the Nevada Agric
 ultural Fair for its fifth year! Taking place in the evenings on July 16\, 
  17\,  and 18. The MAYHEM Mowers race on Thursday\,  July 16 is free to att
 end. Tickets for events on[..]\nhttps://visitcarsonvalley.org/events/mayhem
 ilition-2026/
URL:https://visitcarsonvalley.org/events/mayhemilition-2026/
END:VEVENT
END:VCALENDAR