BEGIN:VCALENDAR
VERSION:2.0
PRODID:-//eventon.com NONSGML v1.0//EN
CALSCALE:GREGORIAN
METHOD:PUBLISH
BEGIN:VEVENT
UID:69ed0f8d19609
DTSTAMP:20260425T190133Z
DTSTART:20260912T000000Z
DTEND:20260913T043000Z
LOCATION:Douglas County Fairgrounds 920 Pinenut Rd. Gardnerville\,  NV 89410
SUMMARY:Douglas County Rodeo 2026
DESCRIPTION:The Douglas County Rodeo will be back for its sixth year on Sep
 tember 11 and 12\,  2026! Come to the Douglas County Fairgrounds and enjoy 
 a variety of thrilling rodeo events followed by a concert each night\,  plu
 s local vendors\,  food trucks\,  live music\,  children&#8217;s activities
 \,  fireworks\,  and more\,  with[..]\nhttps://visitcarsonvalley.org/events
 /douglas-county-rodeo-2026/
URL:https://visitcarsonvalley.org/events/douglas-county-rodeo-2026/
END:VEVENT
END:VCALENDAR