BEGIN:VCALENDAR
VERSION:2.0
PRODID:-//eventon.com NONSGML v1.0//EN
CALSCALE:GREGORIAN
METHOD:PUBLISH
BEGIN:VEVENT
UID:69eb45bd43ab8
DTSTAMP:20260424T102813Z
DTSTART:20260820T233000Z
DTEND:20260821T023000Z
LOCATION:Main Street Gardnerville 1407 U.S. Hwy 395 N\,  Gardnerville\,  NV 89410
SUMMARY:Third Thursday Wine Walk - "Cabs and Classics"
DESCRIPTION:Main Street Gardnerville&#8217;s monthly Wine Walks are back fo
 r 2026! The Third Thursday Wine Walk takes place on every third Thursday fr
 om May to September\,  with a special theme each month. Main Street invites
  you to stroll along and visit the various booths run by local businesses a
 nd organizations\,  who[..]\nhttps://visitcarsonvalley.org/events/third-thu
 rsday-wine-walk-cabs-and-classics/
URL:https://visitcarsonvalley.org/events/third-thursday-wine-walk-cabs-and-classics/
END:VEVENT
END:VCALENDAR