BEGIN:VCALENDAR
VERSION:2.0
PRODID:-//eventon.com NONSGML v1.0//EN
CALSCALE:GREGORIAN
METHOD:PUBLISH
BEGIN:VEVENT
UID:69e5e6c96e5a2
DTSTAMP:20260420T084145Z
DTSTART:20260419T020000Z
DTEND:20260419T065900Z
LOCATION:CVIC Hall 1602 Esmeralda Ave\,  Minden\,  NV 89423
SUMMARY:Carson Valley Pops Orchestra - "Come Fly With Me" Spring Concert
DESCRIPTION:Head on over to the CVIC Hall in Minden on April 18\,  2026 at 
 7:00pm to celebrate spring with a performance by the Carson Valley Pops Orc
 hestra! Their annual Spring Concert is back\,  with a &#8220;Come Fly with 
 Me&#8221; theme. This event is free to attend\,  but donations are cheerful
 ly[..]\nhttps://visitcarsonvalley.org/events/carson-valley-pops-orchestra-c
 ome-fly-with-me-spring-concert/
URL:https://visitcarsonvalley.org/events/carson-valley-pops-orchestra-come-fly-with-me-spring-concert/
END:VEVENT
END:VCALENDAR