BEGIN:VCALENDAR
VERSION:2.0
PRODID:-//eventon.com NONSGML v1.0//EN
CALSCALE:GREGORIAN
METHOD:PUBLISH
BEGIN:VEVENT
UID:69ed0f3f03430
DTSTAMP:20260425T190015Z
DTSTART:20260508T153000Z
DTEND:20260508T183000Z
LOCATION:Carson Valley Museum &amp; Cultural Center 1477 U.S. Hwy. 395 N Gardnerville\,  NV 89410
SUMMARY:Art Exhibit & Reception: Irene Taylor and Steph Gabler
DESCRIPTION:A Meet &amp; Greet Reception with painter Irene Taylor and phot
 ographer Steph Gabler will take place on Friday\,  May 8 in the Museum’s 
 Main Exhibit Hall from 3:30pm-6:30pm. Come meet and chat with the artists a
 bout their life and work over snacks and drinks\,  and check out some amazi
 ng art[..]\nhttps://visitcarsonvalley.org/events/art-exhibit-reception-iren
 e-taylor-and-steph-gabler/
URL:https://visitcarsonvalley.org/events/art-exhibit-reception-irene-taylor-and-steph-gabler/
END:VEVENT
END:VCALENDAR