BEGIN:VCALENDAR
VERSION:2.0
PRODID:-//eventon.com NONSGML v1.0//EN
CALSCALE:GREGORIAN
METHOD:PUBLISH
BEGIN:VEVENT
UID:69e5cf4e68275
DTSTAMP:20260420T070134Z
DTSTART:20261010T220000Z
DTEND:20261011T150000Z
LOCATION:Carson Valley Arts Council 1572 Hwy 395 Suite A Minden\,  NV 89423
SUMMARY:6th Annual Carson Valley Art Studio Tour
DESCRIPTION:Plan a weekend getaway in the beautiful Carson Valley\,  full o
 f Music and Art! The Carson Valley Arts Council announces the 6th Annual Ca
 rson Valley Art Studio Tour for 2026. Bring your family and friends for thi
 s free creative drive-yourself tour of local studios with a variety of tale
 nted artists[..]\nhttps://visitcarsonvalley.org/events/6th-annual-carson-va
 lley-art-studio-tour/
URL:https://visitcarsonvalley.org/events/6th-annual-carson-valley-art-studio-tour/
END:VEVENT
END:VCALENDAR