BEGIN:VCALENDAR
VERSION:2.0
PRODID:-//eventon.com NONSGML v1.0//EN
CALSCALE:GREGORIAN
METHOD:PUBLISH
BEGIN:VEVENT
UID:69eb4522b3a5b
DTSTAMP:20260424T102538Z
DTSTART:20260516T153000Z
DTEND:20260516T223000Z
LOCATION:Genoa Lakes Golf Club 1 Genoa Lakes Dr. Genoa\,  NV 89411
SUMMARY:The Rotary Giving Cup Golf Tournament 2026
DESCRIPTION:The Minden Rotary Club is proud to announce their fifth annual 
 golf tournament fundraiser on Saturday\,  May 16\,  2026\,  at the Genoa La
 kes Golf Club. The Rotary Giving Cup Golf Tournament (formerly the Bill Hen
 derson Memorial Tournament) is the primary source of funds raised to achiev
 e their mission of assisting[..]\nhttps://visitcarsonvalley.org/events/the-
 rotary-giving-cup-golf-tournament-2026/
URL:https://visitcarsonvalley.org/events/the-rotary-giving-cup-golf-tournament-2026/
END:VEVENT
END:VCALENDAR