BEGIN:VCALENDAR
VERSION:2.0
PRODID:-//eventon.com NONSGML v1.0//EN
CALSCALE:GREGORIAN
METHOD:PUBLISH
BEGIN:VEVENT
UID:69e5f936aac5e
DTSTAMP:20260420T100022Z
DTSTART:20260502T170000Z
DTEND:20260503T220000Z
LOCATION:Carson Valley Museum &amp; Cultural Center 1477 U.S. Hwy. 395 N Gardnerville\,  NV 89410
SUMMARY:Douglas County Historical Society's 2026 Art and Wine on the Green
DESCRIPTION:Discover the talent of local artists as they showcase and sell 
 their unique creations in a picturesque outdoor setting. Enjoy a day on the
  lawn\,  sipping wine and exploring fine art\,  paintings\,  photography\, 
  handcrafted jewelry\,  and more available for sale. Find the perfect gift 
 for a loved one\,  or treat[..]\nhttps://visitcarsonvalley.org/events/dougl
 as-county-historical-societys-2026-art-and-wine-on-the-green/
URL:https://visitcarsonvalley.org/events/douglas-county-historical-societys-2026-art-and-wine-on-the-green/
END:VEVENT
END:VCALENDAR